BEGIN:VCALENDAR
VERSION:2.0
PRODID:gruene-kreis-re.de
METHOD:PUBLISH
BEGIN:VTIMEZONE
TZID:Europe/Berlin
X-LIC-LOCATION:Europe/Berlin
BEGIN:DAYLIGHT
TZOFFSETFROM:+0100
TZOFFSETTO:+0200
TZNAME:CEST
DTSTART:19700329T020000
RRULE:FREQ=YEARLY;INTERVAL=1;BYDAY=-1SU;BYMONTH=3
END:DAYLIGHT
BEGIN:STANDARD
TZOFFSETFROM:+0200
TZOFFSETTO:+0100
TZNAME:CET
DTSTART:19701025T030000
RRULE:FREQ=YEARLY;INTERVAL=1;BYDAY=-1SU;BYMONTH=10
END:STANDARD
END:VTIMEZONE
BEGIN:VEVENT
UID:020c8eabad952e3feef861dce0c99239@gruene-kreis-re.de
URL;VALUE=URI:https://gruene-kreis-re.de/termine/kreisvorstandssitzung-4/
LOCATION:Kreisverbandsbüro, Friedhofstr. 6, 45657 Recklinghausen
SUMMARY:Kreisvorstandssitzung
DESCRIPTION;ALTREP="data:text/html,%3Cp%3EDer%20Kreisvorstand%20von%20B%C
 3%9CNDNIS%2090%2FDIE%20GR%C3%9CNEN%20kommt%20zusammen%2C%20um%20aktuelle%
 20Themen%20zu%20besprechen%2C%20neue%20Ideen%20zu%20entwickeln%20und%20un
 sere%20Arbeit%20voranzubringen.%20Alle%20Mitglieder%20und%20Interessierte
 n%20sind%20herzlich%20eingeladen%2C%20sich%20einzubringen%2C%20Fragen%20z
 u%20stellen%20und%20mitzudiskutieren.%20Wir%20freuen%20uns%20%C3%BCber%20
 alle%20interessierten%20G%C3%A4ste%21%3C%2Fp%3E":Der Kreisvorstand von B
 ÜNDNIS 90/DIE GRÜNEN kommt zusammen\, um aktuelle Themen zu besprechen\
 , neue Ideen zu entwickeln und unsere Arbeit voranzubringen. Alle Mitglie
 der und Interessierten sind herzlich eingeladen\, sich einzubringen\, Fra
 gen zu stellen und mitzudiskutieren. Wir freuen uns über alle interessie
 rten Gäste!
CLASS:PUBLIC
DTSTART;TZID=Europe/Berlin:20260519T190000
DTEND;TZID=Europe/Berlin:20260519T210000
DTSTAMP:20260424T150942
END:VEVENT
END:VCALENDAR