BEGIN:VCALENDAR
VERSION:2.0
PRODID:gruene-kreis-re.de
METHOD:PUBLISH
BEGIN:VTIMEZONE
TZID:Europe/Berlin
X-LIC-LOCATION:Europe/Berlin
BEGIN:DAYLIGHT
TZOFFSETFROM:+0100
TZOFFSETTO:+0200
TZNAME:CEST
DTSTART:19700329T020000
RRULE:FREQ=YEARLY;INTERVAL=1;BYDAY=-1SU;BYMONTH=3
END:DAYLIGHT
BEGIN:STANDARD
TZOFFSETFROM:+0200
TZOFFSETTO:+0100
TZNAME:CET
DTSTART:19701025T030000
RRULE:FREQ=YEARLY;INTERVAL=1;BYDAY=-1SU;BYMONTH=10
END:STANDARD
END:VTIMEZONE
BEGIN:VEVENT
UID:9ede0696efc625354f0b5f188001aa61@gruene-kreis-re.de
URL;VALUE=URI:https://gruene-kreis-re.de/termine/unsere-partei-von-innen-
 parteistrukturen-im-ueberblick/
LOCATION:Kreisverbandsbüro, Friedhofstr. 6, 45657 Recklinghausen
SUMMARY:Unsere Partei von Innen: Parteistrukturen im Überblick
DESCRIPTION;ALTREP="data:text/html,%3Cp%3E%3C%2Fp%3E":
CLASS:PUBLIC
DTSTART;TZID=Europe/Berlin:20260520T090000
DTEND;TZID=Europe/Berlin:20260520T100000
DTSTAMP:20260421T114806
END:VEVENT
END:VCALENDAR